BEGIN:VCALENDAR
VERSION:2.0
PRODID:icalendar-ruby
CALSCALE:GREGORIAN
METHOD:PUBLISH
BEGIN:VEVENT
DTSTAMP:20260420T184727Z
UID:7-526798@fpcofwewa.org
DTSTART:20260802T150000Z
DTEND:20260802T163000Z
CLASS:PUBLIC
CREATED:20260420T120613
DESCRIPTION:
LAST-MODIFIED:20260420T120613
LOCATION:
SUMMARY:Sunday Service
URL;VALUE=URI:https://fpcofwewa.org/events/sunday-service/2026-08-02
END:VEVENT
END:VCALENDAR
