BEGIN:VCALENDAR
VERSION:2.0
PRODID:icalendar-ruby
CALSCALE:GREGORIAN
METHOD:PUBLISH
BEGIN:VEVENT
DTSTAMP:20260420T202925Z
UID:7-527193@fpcofwewa.org
DTSTART:20260809T150000Z
DTEND:20260809T163000Z
CLASS:PUBLIC
CREATED:20260420T144100
DESCRIPTION:
LAST-MODIFIED:20260420T144100
LOCATION:
SUMMARY:Sunday Service
URL;VALUE=URI:https://fpcofwewa.org/events/sunday-service/2026-08-09
END:VEVENT
END:VCALENDAR
