BEGIN:VCALENDAR
VERSION:2.0
PRODID:icalendar-ruby
CALSCALE:GREGORIAN
METHOD:PUBLISH
BEGIN:VEVENT
DTSTAMP:20260421T001855Z
UID:7-527589@fpcofwewa.org
DTSTART:20260823T150000Z
DTEND:20260823T163000Z
CLASS:PUBLIC
CREATED:20260420T171657
DESCRIPTION:
LAST-MODIFIED:20260420T171657
LOCATION:
SUMMARY:Sunday Service
URL;VALUE=URI:https://fpcofwewa.org/events/sunday-service/2026-08-23
END:VEVENT
END:VCALENDAR
