BEGIN:VCALENDAR
VERSION:2.0
PRODID:icalendar-ruby
CALSCALE:GREGORIAN
METHOD:PUBLISH
BEGIN:VEVENT
DTSTAMP:20260421T054912Z
UID:7-527986@fpcofwewa.org
DTSTART:20260913T150000Z
DTEND:20260913T163000Z
CLASS:PUBLIC
CREATED:20260420T195150
DESCRIPTION:
LAST-MODIFIED:20260420T195150
LOCATION:
SUMMARY:Sunday Service
URL;VALUE=URI:https://fpcofwewa.org/events/sunday-service/2026-09-13
END:VEVENT
END:VCALENDAR
