BEGIN:VCALENDAR
VERSION:2.0
PRODID:icalendar-ruby
CALSCALE:GREGORIAN
METHOD:PUBLISH
BEGIN:VEVENT
DTSTAMP:20260421T090447Z
UID:7-527988@fpcofwewa.org
DTSTART:20260927T150000Z
DTEND:20260927T163000Z
CLASS:PUBLIC
CREATED:20260420T195150
DESCRIPTION:
LAST-MODIFIED:20260420T195150
LOCATION:
SUMMARY:Sunday Service
URL;VALUE=URI:https://fpcofwewa.org/events/sunday-service/2026-09-27
END:VEVENT
END:VCALENDAR
