BEGIN:VCALENDAR
VERSION:2.0
PRODID:icalendar-ruby
CALSCALE:GREGORIAN
METHOD:PUBLISH
BEGIN:VEVENT
DTSTAMP:20260421T121852Z
UID:7-528384@fpcofwewa.org
DTSTART:20261011T150000Z
DTEND:20261011T163000Z
CLASS:PUBLIC
CREATED:20260421T065829
DESCRIPTION:
LAST-MODIFIED:20260421T065829
LOCATION:
SUMMARY:Sunday Service
URL;VALUE=URI:https://fpcofwewa.org/events/sunday-service/2026-10-11
END:VEVENT
END:VCALENDAR
