BEGIN:VCALENDAR
VERSION:2.0
PRODID:icalendar-ruby
CALSCALE:GREGORIAN
METHOD:PUBLISH
BEGIN:VEVENT
DTSTAMP:20260421T140346Z
UID:7-528385@fpcofwewa.org
DTSTART:20261018T150000Z
DTEND:20261018T163000Z
CLASS:PUBLIC
CREATED:20260421T065829
DESCRIPTION:
LAST-MODIFIED:20260421T065829
LOCATION:
SUMMARY:Sunday Service
URL;VALUE=URI:https://fpcofwewa.org/events/sunday-service/2026-10-18
END:VEVENT
END:VCALENDAR
