BEGIN:VCALENDAR
VERSION:2.0
PRODID:icalendar-ruby
CALSCALE:GREGORIAN
METHOD:PUBLISH
BEGIN:VEVENT
DTSTAMP:20260421T154513Z
UID:7-528780@fpcofwewa.org
DTSTART:20261025T150000Z
DTEND:20261025T163000Z
CLASS:PUBLIC
CREATED:20260421T093405
DESCRIPTION:
LAST-MODIFIED:20260421T093405
LOCATION:
SUMMARY:Sunday Service
URL;VALUE=URI:https://fpcofwewa.org/events/sunday-service/2026-10-25
END:VEVENT
END:VCALENDAR
