BEGIN:VCALENDAR
VERSION:2.0
PRODID:icalendar-ruby
CALSCALE:GREGORIAN
METHOD:PUBLISH
BEGIN:VEVENT
DTSTAMP:20260421T172038Z
UID:7-529175@fpcofwewa.org
DTSTART:20261101T160000Z
DTEND:20261101T173000Z
CLASS:PUBLIC
CREATED:20260421T121338
DESCRIPTION:
LAST-MODIFIED:20260421T121338
LOCATION:
SUMMARY:Sunday Service
URL;VALUE=URI:https://fpcofwewa.org/events/sunday-service/2026-11-01
END:VEVENT
END:VCALENDAR
