BEGIN:VCALENDAR
VERSION:2.0
PRODID:icalendar-ruby
CALSCALE:GREGORIAN
METHOD:PUBLISH
BEGIN:VEVENT
DTSTAMP:20260420T020635Z
UID:5-524684@fpcofwewa.org
DTSTART:20260517T153000Z
DTEND:20260517T163000Z
CLASS:PUBLIC
CREATED:20260419T185602
DESCRIPTION:Sunday Worship
LAST-MODIFIED:20260419T185602
LOCATION:
SUMMARY:Sunday Worship
URL;VALUE=URI:https://fpcofwewa.org/events/sunday-worship/2026-05-17
END:VEVENT
END:VCALENDAR
