BEGIN:VCALENDAR
VERSION:2.0
PRODID:icalendar-ruby
CALSCALE:GREGORIAN
METHOD:PUBLISH
BEGIN:VEVENT
DTSTAMP:20260420T040010Z
UID:5-525079@fpcofwewa.org
DTSTART:20260524T153000Z
DTEND:20260524T163000Z
CLASS:PUBLIC
CREATED:20260419T223350
DESCRIPTION:Sunday Worship
LAST-MODIFIED:20260419T223350
LOCATION:
SUMMARY:Sunday Worship
URL;VALUE=URI:https://fpcofwewa.org/events/sunday-worship/2026-05-24
END:VEVENT
END:VCALENDAR
