BEGIN:VCALENDAR
VERSION:2.0
PRODID:icalendar-ruby
CALSCALE:GREGORIAN
METHOD:PUBLISH
BEGIN:VEVENT
DTSTAMP:20260420T055557Z
UID:5-525080@fpcofwewa.org
DTSTART:20260531T153000Z
DTEND:20260531T163000Z
CLASS:PUBLIC
CREATED:20260419T223350
DESCRIPTION:Sunday Worship
LAST-MODIFIED:20260419T223350
LOCATION:
SUMMARY:Sunday Worship
URL;VALUE=URI:https://fpcofwewa.org/events/sunday-worship/2026-05-31
END:VEVENT
END:VCALENDAR
