BEGIN:VCALENDAR
VERSION:2.0
PRODID:icalendar-ruby
CALSCALE:GREGORIAN
METHOD:PUBLISH
BEGIN:VEVENT
DTSTAMP:20260420T080724Z
UID:5-525475@fpcofwewa.org
DTSTART:20260607T153000Z
DTEND:20260607T163000Z
CLASS:PUBLIC
CREATED:20260420T021100
DESCRIPTION:Sunday Worship
LAST-MODIFIED:20260420T021100
LOCATION:
SUMMARY:Sunday Worship
URL;VALUE=URI:https://fpcofwewa.org/events/sunday-worship/2026-06-07
END:VEVENT
END:VCALENDAR
