BEGIN:VCALENDAR
VERSION:2.0
PRODID:icalendar-ruby
CALSCALE:GREGORIAN
METHOD:PUBLISH
BEGIN:VEVENT
DTSTAMP:20260420T171537Z
UID:5-526662@fpcofwewa.org
DTSTART:20260712T153000Z
DTEND:20260712T163000Z
CLASS:PUBLIC
CREATED:20260420T120612
DESCRIPTION:Sunday Worship
LAST-MODIFIED:20260420T120612
LOCATION:
SUMMARY:Sunday Worship
URL;VALUE=URI:https://fpcofwewa.org/events/sunday-worship/2026-07-12
END:VEVENT
END:VCALENDAR
