BEGIN:VCALENDAR
VERSION:2.0
PRODID:icalendar-ruby
CALSCALE:GREGORIAN
METHOD:PUBLISH
BEGIN:VEVENT
DTSTAMP:20260420T225026Z
UID:5-527453@fpcofwewa.org
DTSTART:20260802T153000Z
DTEND:20260802T163000Z
CLASS:PUBLIC
CREATED:20260420T171657
DESCRIPTION:Sunday Worship
LAST-MODIFIED:20260420T171657
LOCATION:
SUMMARY:Sunday Worship
URL;VALUE=URI:https://fpcofwewa.org/events/sunday-worship/2026-08-02
END:VEVENT
END:VCALENDAR
