BEGIN:VCALENDAR
VERSION:2.0
PRODID:icalendar-ruby
CALSCALE:GREGORIAN
METHOD:PUBLISH
BEGIN:VEVENT
DTSTAMP:20260421T023441Z
UID:5-527849@fpcofwewa.org
DTSTART:20260816T153000Z
DTEND:20260816T163000Z
CLASS:PUBLIC
CREATED:20260420T195150
DESCRIPTION:Sunday Worship
LAST-MODIFIED:20260420T195150
LOCATION:
SUMMARY:Sunday Worship
URL;VALUE=URI:https://fpcofwewa.org/events/sunday-worship/2026-08-16
END:VEVENT
END:VCALENDAR
