BEGIN:VCALENDAR
VERSION:2.0
PRODID:icalendar-ruby
CALSCALE:GREGORIAN
METHOD:PUBLISH
BEGIN:VEVENT
DTSTAMP:20260421T061519Z
UID:5-527851@fpcofwewa.org
DTSTART:20260830T153000Z
DTEND:20260830T163000Z
CLASS:PUBLIC
CREATED:20260420T195150
DESCRIPTION:Sunday Worship
LAST-MODIFIED:20260420T195150
LOCATION:
SUMMARY:Sunday Worship
URL;VALUE=URI:https://fpcofwewa.org/events/sunday-worship/2026-08-30
END:VEVENT
END:VCALENDAR
